BEGIN:VCALENDAR
VERSION:2.0
BEGIN:VEVENT
DTSTART:20250507T235500
DURATION:PT00H00M00S
SUMMARY:[DEADLINE] ΣΤΑΘΕΡΟΤΗΤΑ ΚΑΙ ΦΥΛΑΞΗ ΦΑΡΜΑΚΩΝ
DESCRIPTION:Α) Ποιοί είναι οι παράγοντες που παίζουν καθοριστικό ρόλο για τη σταθερότητα ενός φαρμακευτικού προϊόντος;
Β) Τί γνωρίζετε για τις συνθήκες φύλαξης των φαρμακευτικών σκευασμάτων; 
(deadline: 2025-05-07 23:55:00)
BEGIN:VALARM
TRIGGER:-PT24H
DURATION:PT10H
ACTION:DISPLAY
DESCRIPTION:DEADLINE REMINDER for ΣΤΑΘΕΡΟΤΗΤΑ ΚΑΙ ΦΥΛΑΞΗ ΦΑΡΜΑΚΩΝ
END:VALARM
END:VEVENT
END:VCALENDAR
