BEGIN:VCALENDAR
VERSION:2.0
BEGIN:VEVENT
DTSTART:20251125T235500
DURATION:PT00H00M00S
SUMMARY:[DEADLINE] Εργασία εξαμήνου στο μάθημα πρακτική εφαρμογή στην ειδικότητα
DESCRIPTION:Ο κομμωτής/τρια ωφείλει να ενημερώνεται για τις νέες τάσεις της μόδας, ώστε να μεταφέρει τον 'παλμό΄ στους ανθρώπους που τον/την  εμπιστεύονται. 
Σύμφωνα με τη νέα τάση 2025-2026 ποια δεκαετία αναβιώνει και πως βγάζω αυτό το συμπέρασμα; 
Χρησιμοποιώ το φωτογραφικό  υλικό της τάξης και αιτιολογώ την απαντηση μου. 
(deadline: 2025-11-25 23:55:00)
BEGIN:VALARM
TRIGGER:-PT24H
DURATION:PT10H
ACTION:DISPLAY
DESCRIPTION:DEADLINE REMINDER for Εργασία εξαμήνου στο μάθημα πρακτική εφαρμογή στην ειδικότητα
END:VALARM
END:VEVENT
END:VCALENDAR
