BEGIN:VCALENDAR
VERSION:2.0
BEGIN:VEVENT
DTSTART:20260504T194000
DURATION:PT00H00M00S
SUMMARY:[DEADLINE] ΕΡΓΑΣΙΑ ΕΞΑΜΗΝΟΥ 2026Α 
DESCRIPTION:(deadline: 2026-05-04 19:40:00)
BEGIN:VALARM
TRIGGER:-PT24H
DURATION:PT10H
ACTION:DISPLAY
DESCRIPTION:DEADLINE REMINDER for ΕΡΓΑΣΙΑ ΕΞΑΜΗΝΟΥ 2026Α
END:VALARM
END:VEVENT
END:VCALENDAR
